BEGIN:VCALENDAR
VERSION:2.0
PRODID:-//Columbia City Connect - ECPv6.6.1//NONSGML v1.0//EN
CALSCALE:GREGORIAN
METHOD:PUBLISH
X-WR-CALNAME:Columbia City Connect
X-ORIGINAL-URL:https://www.columbiacityconnect.com
X-WR-CALDESC:Events for Columbia City Connect
REFRESH-INTERVAL;VALUE=DURATION:PT1H
X-Robots-Tag:noindex
X-PUBLISHED-TTL:PT1H
BEGIN:VTIMEZONE
TZID:America/Indiana/Indianapolis
BEGIN:DAYLIGHT
TZOFFSETFROM:-0500
TZOFFSETTO:-0400
TZNAME:EDT
DTSTART:20260308T070000
END:DAYLIGHT
BEGIN:STANDARD
TZOFFSETFROM:-0400
TZOFFSETTO:-0500
TZNAME:EST
DTSTART:20261101T060000
END:STANDARD
END:VTIMEZONE
BEGIN:VEVENT
DTSTART;TZID=America/Indiana/Indianapolis:20260228T160000
DTEND;TZID=America/Indiana/Indianapolis:20260228T190000
DTSTAMP:20260425T181459
CREATED:20260115T184302Z
LAST-MODIFIED:20260219T192456Z
UID:14805-1772294400-1772305200@www.columbiacityconnect.com
SUMMARY:35th Annual 4H Fish and Tenderloin Supper
DESCRIPTION:Mark your calendars!! The 4H Fish Fry is coming soon! We will serve breaded fish and tenderloin\, grilled tenderloin\, baked beans\, applesauce\, bread & butter! \nAdults: $14Kids 5-10: $8Kids under 5: Donations acceptedCarryout: $14\n35th Annual 4H Fish and Tenderloin Supper | Facebook
URL:https://www.columbiacityconnect.com/event/35th-annual-4h-fish-and-tenderloin-supper/
LOCATION:4-H Fairgrounds\, 680 W Squawbuck Rd\, Columbia City\, IN\, 46725\, United States
END:VEVENT
END:VCALENDAR