BEGIN:VCALENDAR
VERSION:2.0
PRODID:-//Columbia City Connect - ECPv6.6.1//NONSGML v1.0//EN
CALSCALE:GREGORIAN
METHOD:PUBLISH
X-WR-CALNAME:Columbia City Connect
X-ORIGINAL-URL:https://www.columbiacityconnect.com
X-WR-CALDESC:Events for Columbia City Connect
REFRESH-INTERVAL;VALUE=DURATION:PT1H
X-Robots-Tag:noindex
X-PUBLISHED-TTL:PT1H
BEGIN:VTIMEZONE
TZID:America/Indiana/Indianapolis
BEGIN:DAYLIGHT
TZOFFSETFROM:-0500
TZOFFSETTO:-0400
TZNAME:EDT
DTSTART:20260308T070000
END:DAYLIGHT
BEGIN:STANDARD
TZOFFSETFROM:-0400
TZOFFSETTO:-0500
TZNAME:EST
DTSTART:20261101T060000
END:STANDARD
END:VTIMEZONE
BEGIN:VEVENT
DTSTART;TZID=America/Indiana/Indianapolis:20260210T180000
DTEND;TZID=America/Indiana/Indianapolis:20260210T193000
DTSTAMP:20260425T084341
CREATED:20260119T212306Z
LAST-MODIFIED:20260119T212306Z
UID:14876-1770746400-1770751800@www.columbiacityconnect.com
SUMMARY:A Bird in the Hand: Bird Banding Research at Merry Lea
DESCRIPTION:Each summer\, staff and volunteers at Merry Lea Environmental Learning Center of Goshen College arrive before dawn to participate in research about the songbirds living and nesting at Merry Lea. Join us to learn about how and why this research is being done. Though we can’t bring any live birds\, you will have the chance to see and handle some of the equipment that is regularly used as well as see many examples of the kinds of birds we work with. \nThis program is free and open to all. \nPresented by Tippecanoe Audubon Society. \nQuestions? Call the library at 260-244-5541.
URL:https://www.columbiacityconnect.com/event/a-bird-in-the-hand-bird-banding-research-at-merry-lea/
LOCATION:Peabody Public Library\, 1160 E. State Road 205\, Columbia City\, 46725
ORGANIZER;CN="Peabody Public Library":MAILTO:rhatfield@ppl.lib.in.us
END:VEVENT
END:VCALENDAR