BEGIN:VCALENDAR
VERSION:2.0
PRODID:-//Columbia City Connect - ECPv6.6.1//NONSGML v1.0//EN
CALSCALE:GREGORIAN
METHOD:PUBLISH
X-WR-CALNAME:Columbia City Connect
X-ORIGINAL-URL:https://www.columbiacityconnect.com
X-WR-CALDESC:Events for Columbia City Connect
REFRESH-INTERVAL;VALUE=DURATION:PT1H
X-Robots-Tag:noindex
X-PUBLISHED-TTL:PT1H
BEGIN:VTIMEZONE
TZID:America/Indiana/Indianapolis
BEGIN:DAYLIGHT
TZOFFSETFROM:-0500
TZOFFSETTO:-0400
TZNAME:EDT
DTSTART:20260308T070000
END:DAYLIGHT
BEGIN:STANDARD
TZOFFSETFROM:-0400
TZOFFSETTO:-0500
TZNAME:EST
DTSTART:20261101T060000
END:STANDARD
END:VTIMEZONE
BEGIN:VEVENT
DTSTART;TZID=America/Indiana/Indianapolis:20260214T103000
DTEND;TZID=America/Indiana/Indianapolis:20260214T233000
DTSTAMP:20260425T095916
CREATED:20260119T212252Z
LAST-MODIFIED:20260119T212252Z
UID:14881-1771065000-1771111800@www.columbiacityconnect.com
SUMMARY:Calming Guitar & Flute Music
DESCRIPTION:oin us on your Saturday morning for the beautiful\, calming music of a guitar and flute playing together\, inside the library. \nThis is a free event\, open to all who want to attend. \nPresented by Aaron Smith and Nancy Calhoun. \nQuestions? Please call the library at 260-244-5541.
URL:https://www.columbiacityconnect.com/event/calming-guitar-flute-music/
LOCATION:Peabody Public Library\, 1160 E. State Road 205\, Columbia City\, 46725
ORGANIZER;CN="Peabody Public Library":MAILTO:rhatfield@ppl.lib.in.us
END:VEVENT
END:VCALENDAR