BEGIN:VCALENDAR
VERSION:2.0
PRODID:-//Columbia City Connect - ECPv6.6.1//NONSGML v1.0//EN
CALSCALE:GREGORIAN
METHOD:PUBLISH
X-ORIGINAL-URL:https://www.columbiacityconnect.com
X-WR-CALDESC:Events for Columbia City Connect
REFRESH-INTERVAL;VALUE=DURATION:PT1H
X-Robots-Tag:noindex
X-PUBLISHED-TTL:PT1H
BEGIN:VTIMEZONE
TZID:America/Indiana/Indianapolis
BEGIN:DAYLIGHT
TZOFFSETFROM:-0500
TZOFFSETTO:-0400
TZNAME:EDT
DTSTART:20260308T070000
END:DAYLIGHT
BEGIN:STANDARD
TZOFFSETFROM:-0400
TZOFFSETTO:-0500
TZNAME:EST
DTSTART:20261101T060000
END:STANDARD
END:VTIMEZONE
BEGIN:VEVENT
DTSTART;TZID=America/Indiana/Indianapolis:20260425T090000
DTEND;TZID=America/Indiana/Indianapolis:20260425T120000
DTSTAMP:20260425T100336
CREATED:20260121T194442Z
LAST-MODIFIED:20260121T194756Z
UID:10001064-1777107600-1777118400@www.columbiacityconnect.com
SUMMARY:Downtown Clean Up Day
DESCRIPTION:Roll up your sleeves and join us for Downtown Clean-Up Day! We’ll be out on April 25 from 9 AM – Noon making our downtown shine. Be part of the difference! Duties include: cleaning leaves and debris from tree grates\, weeding\, leaf blowing alleyways\, beautifying downtown spaces\, planting flowers and more!\n\nSign up here: https://www.columbiacityconnect.com/downtown-clean-up…/
URL:https://www.columbiacityconnect.com/event/downtown-clean-up-day-2/
LOCATION:Downtown Columbia City\, 108 S Chauncey St\, Columbia City\, IN\, 46725\, United States
ATTACH;FMTTYPE=image/png:https://www.columbiacityconnect.com/wp-content/uploads/2026/01/2026-Downtown-Clean-up-Day-Event-Cover.png
END:VEVENT
BEGIN:VEVENT
DTSTART;TZID=America/Indiana/Indianapolis:20260425T110000
DTEND;TZID=America/Indiana/Indianapolis:20260425T120000
DTSTAMP:20260425T100336
CREATED:20260323T191226Z
LAST-MODIFIED:20260323T191226Z
UID:10001142-1777114800-1777118400@www.columbiacityconnect.com
SUMMARY:Children's Clothing Swap @ The Library
DESCRIPTION:Bring children’s clothes you’re ready to part with\, shop the swap for new-to-you finds\, and take back any of your items that are left at the end. Participants must be present during the swap. \nThis event is free to attend and requires no library card to enjoy.
URL:https://www.columbiacityconnect.com/event/childrens-clothing-swap-the-library/
LOCATION:Peabody Public Library\, 1160 E. State Road 205\, Columbia City\, 46725
ORGANIZER;CN="Peabody Public Library":MAILTO:rhatfield@ppl.lib.in.us
END:VEVENT
BEGIN:VEVENT
DTSTART;TZID=America/Indiana/Indianapolis:20260425T160000
DTEND;TZID=America/Indiana/Indianapolis:20260425T190000
DTSTAMP:20260425T100336
CREATED:20260323T203710Z
LAST-MODIFIED:20260323T203710Z
UID:10001144-1777132800-1777143600@www.columbiacityconnect.com
SUMMARY:Tri-Lakes Lions Fish & Tenderloin Fry
DESCRIPTION:Tri-Lakes Lions Fish & Tenderloin Fry \nSaturday\, April 25\, 2026 \n4PM-7PM (or sold out) \nTri-Lakes Hall \n2935 E. Colony Avenue\, Columbia City\, IN 46725 \n  \nDrive-Thru Only \nMeat or Meal $15 \nQuart Potato Salat $7 \n  \n 
URL:https://www.columbiacityconnect.com/event/tri-lakes-lions-fish-tenderloin-fry-2/
LOCATION:Tri-Lakes Lions Hall\, 2935 E. Colony Avenue\, Columbia City\, IN\, 46725\, United States
END:VEVENT
BEGIN:VEVENT
DTSTART;TZID=America/Indiana/Indianapolis:20260428T180000
DTEND;TZID=America/Indiana/Indianapolis:20260428T193000
DTSTAMP:20260425T100336
CREATED:20260206T172517Z
LAST-MODIFIED:20260210T190836Z
UID:10001093-1777399200-1777404600@www.columbiacityconnect.com
SUMMARY:Empower Whitley Women
DESCRIPTION:Events dedicated to restoring\, uplifting\, and empowering the women of Whitley County. \nJoin us for FREE workshops\, connections\, and inspiration designed to support you who person’s well-being. \nSnacks and door prizes at each event. \n  \nWhat to expect: \n-Wellness + self-care topics \n-Mindfulness and relaxation sessions \n-Local women-owned vendors and presenters \n-Health and lifestyle resources \n-Community connection and encouragement \n  \nFourth Tuesday of the Month: February through October \nLocation: The Woodlands 710 Opportunity Drive\, Columbia City\, IN 46725 \nTime: 6-7:30 pm \nProgram funded through generous grants from Parkview Whitley and The Whitley County Community Foundation. \nRefreshments provided by Todd Reid – State Farm Insurance \nEmpower Whitley Women | Facebook \nQuestions: Whitley County Health Department: 260-248-3121 x6 \n 
URL:https://www.columbiacityconnect.com/event/empower-whitley-women/2026-04-28/
LOCATION:Woodlands Senior Activity Center\, 710 Opportunity Dr\, Columbia City\, IN\, 46725\, United States
END:VEVENT
BEGIN:VEVENT
DTSTART;TZID=America/Indiana/Indianapolis:20260429T123000
DTEND;TZID=America/Indiana/Indianapolis:20260429T130000
DTSTAMP:20260425T100336
CREATED:20260422T181629Z
LAST-MODIFIED:20260422T181629Z
UID:10001176-1777465800-1777467600@www.columbiacityconnect.com
SUMMARY:Craft Day @ BABE
DESCRIPTION:Stop in to BABE for a free kids craft
URL:https://www.columbiacityconnect.com/event/craft-day-babe/
LOCATION:BABE of Whitley County\, 605 Forest Parkway\, Columbia City\, 46725
ORGANIZER;CN="BABE of Whitley County":MAILTO:laura@babewc.org
END:VEVENT
END:VCALENDAR