BEGIN:VCALENDAR
VERSION:2.0
PRODID:-//Columbia City Connect - ECPv6.6.1//NONSGML v1.0//EN
CALSCALE:GREGORIAN
METHOD:PUBLISH
X-ORIGINAL-URL:https://www.columbiacityconnect.com
X-WR-CALDESC:Events for Columbia City Connect
REFRESH-INTERVAL;VALUE=DURATION:PT1H
X-Robots-Tag:noindex
X-PUBLISHED-TTL:PT1H
BEGIN:VTIMEZONE
TZID:America/Indiana/Indianapolis
BEGIN:DAYLIGHT
TZOFFSETFROM:-0500
TZOFFSETTO:-0400
TZNAME:EDT
DTSTART:20260308T070000
END:DAYLIGHT
BEGIN:STANDARD
TZOFFSETFROM:-0400
TZOFFSETTO:-0500
TZNAME:EST
DTSTART:20261101T060000
END:STANDARD
END:VTIMEZONE
BEGIN:VEVENT
DTSTART;TZID=America/Indiana/Indianapolis:20260501T180000
DTEND;TZID=America/Indiana/Indianapolis:20260501T210000
DTSTAMP:20260421T221431
CREATED:20260406T205906Z
LAST-MODIFIED:20260406T211942Z
UID:10001157-1777658400-1777669200@www.columbiacityconnect.com
SUMMARY:First Fridays - Touch-A-Truck & The Launchpad
DESCRIPTION:We’re back for another exciting season of First Fridays\, and we’re rolling in with Touch-A-Truck! Bring the whole family to explore trucks of all kinds–big rigs\, excavators\, bucket trucks and more! Kids (and kids at heart) can get up close\, climb inside\, and even meet the pros who operate them. \nPlus\, The Launchpad: Youth Entrepreneurial Market is back! Browse booths of student creators\, makers and future business leaders! Located on the Courthouse lawn. \nWith live country and classic rock tunes from The Trainwreckers\, food trucks\, local vendors\, and downtown shops open late\, there’s something for everyone! Don’t miss this picture-perfect kickoff to another amazing year of community fun in downtown Columbia City!
URL:https://www.columbiacityconnect.com/event/first-fridays-touch-a-truck-the-launchpad/
LOCATION:Downtown Columbia City\, 108 S Chauncey St\, Columbia City\, IN\, 46725\, United States
ATTACH;FMTTYPE=image/png:https://www.columbiacityconnect.com/wp-content/uploads/2026/04/May.png
END:VEVENT
BEGIN:VEVENT
DTSTART;TZID=America/Indiana/Indianapolis:20260502T100000
DTEND;TZID=America/Indiana/Indianapolis:20260502T110000
DTSTAMP:20260421T221431
CREATED:20260323T203733Z
LAST-MODIFIED:20260323T203733Z
UID:10001145-1777716000-1777719600@www.columbiacityconnect.com
SUMMARY:Downtown Columbia City Historic Walking Tour
DESCRIPTION:Step back in time and explore the rich history of Downtown Columbia City on a guided walking tour.\n\nJoin us at the Gazebo on the Courthouse Lawn in Downtown Columbia City. This FREE tour begins at 10:00 AM for an engaging experience filled with stories of resilience\, innovation and community spirit.\n\nDiscover the past that shaped our present!
URL:https://www.columbiacityconnect.com/event/downtown-columbia-city-historic-walking-tour/
LOCATION:Courthouse Square Gazebo Downtown CC\, columbia city\, 46725\, United States
ATTACH;FMTTYPE=image/png:https://www.columbiacityconnect.com/wp-content/uploads/2026/03/2026-Historic-Walking-Tour-Graphic.png
END:VEVENT
BEGIN:VEVENT
DTSTART;TZID=America/Indiana/Indianapolis:20260502T100000
DTEND;TZID=America/Indiana/Indianapolis:20260502T150000
DTSTAMP:20260421T221431
CREATED:20260325T153350Z
LAST-MODIFIED:20260325T153449Z
UID:10001151-1777716000-1777734000@www.columbiacityconnect.com
SUMMARY:Free Comic Book Day
DESCRIPTION:Free Comic Book Day & Comics Giveaway Day are just around the corner!!! Come in to B.E. Comics & Kards & Rockets & Hobbies Saturday May 2nd and snag some free comics.
URL:https://www.columbiacityconnect.com/event/free-comic-book-day/
LOCATION:B.E. Comics & Kards & Rockets & Hobbies\, 217 W. Van Buren St. Suite 1\, Columbia City\, IN\, 46725\, United States
ORGANIZER;CN="B.E. Comics & Kards & Rockets & Hobbies":MAILTO:info@beckent.com
END:VEVENT
BEGIN:VEVENT
DTSTART;TZID=America/Indiana/Indianapolis:20260502T110000
DTEND;TZID=America/Indiana/Indianapolis:20260502T130000
DTSTAMP:20260421T221431
CREATED:20260205T185255Z
LAST-MODIFIED:20260205T185255Z
UID:10001086-1777719600-1777726800@www.columbiacityconnect.com
SUMMARY:Pregnancy & Child Loss Remembrance Walk
DESCRIPTION:Join us for a free one-mile walk to honor and remember babies and children gone too soon.\nThis event is a safe space for families to grieve\, remember\, and connect with others who’ve experienced pregnancy or child loss. Along the path\, participants will see their baby or child’s name written on a sign\, hear their name spoken aloud\, and take part in a gentle bubble release to close the walk. \nWhy we walk:\nOne in four pregnancies ends in miscarriage or stillbirth. Despite how common it is\, so many families suffer in silence. Our goal is to raise awareness and provide support to grieving families who may feel isolated and overwhelmed in their loss.\nWhether you’ve lost a child yourself or want to support someone who has\, you are welcome here. \nCost:\nFree to attend. All ages welcome. \nPlease sign up here: https://babewc.org/walk/
URL:https://www.columbiacityconnect.com/event/pregnancy-child-loss-remembrance-walk-2/
LOCATION:Morsches Park\, 1035 E. State Rd 205\, Columbia City\, 46725
ORGANIZER;CN="BABE of Whitley County":MAILTO:laura@babewc.org
END:VEVENT
BEGIN:VEVENT
DTSTART;TZID=America/Indiana/Indianapolis:20260502T140000
DTEND;TZID=America/Indiana/Indianapolis:20260502T150000
DTSTAMP:20260421T221431
CREATED:20260420T153803Z
LAST-MODIFIED:20260420T153803Z
UID:10001164-1777730400-1777734000@www.columbiacityconnect.com
SUMMARY:Craft Supply Swap
DESCRIPTION:Attention Crafters! Bring in your gently used craft supplies – yarn\, fabric\, beads\, paper\, ribbon\, buttons or any other crafting materials you no longer need at home between 9:00 am to 12:00 pm. We will sort through all the donations and open the doors for “shoppers” at 2:00 pm. Browse what others have contributed and take home what you want or can use. \nWhat to Bring:\nAll craft supplies should be in good\, usable condition.\nNo open containers of paint or glue.\nNo moldy\, dirty or broken items.\nNo hazardous materials. \nQuestions?\nPlease call the library at (260) 244-5541. \nAny items left at the end of the swap will be used by the library\, donated\, or discarded. This event is free\, open to the public\, and no library card is required.
URL:https://www.columbiacityconnect.com/event/craft-supply-swap/
LOCATION:Peabody Public Library\, 1160 E. State Road 205\, Columbia City\, 46725
ORGANIZER;CN="Peabody Public Library":MAILTO:rhatfield@ppl.lib.in.us
END:VEVENT
BEGIN:VEVENT
DTSTART;TZID=America/Indiana/Indianapolis:20260506T130000
DTEND;TZID=America/Indiana/Indianapolis:20260506T150000
DTSTAMP:20260421T221431
CREATED:20260420T144036Z
LAST-MODIFIED:20260420T144036Z
UID:10001173-1778072400-1778079600@www.columbiacityconnect.com
SUMMARY:Sweet Treats\, Fewer Falls & Better Hearing
DESCRIPTION:Presentation from:\nAnna Grace Weasenforth – Au.D. CCC-A\nRegional Manager with Unitron Global\nTopic: How Hearing and Balance are\nConnected \n“Taking care of your hearing isn’t just about sound— it’s about staying steady\, safe\, and independent.”\nHosted By: Autumn Trace Senior Communities Columbia City & 3Rivers Hearing\nLocated at Autumn Trace 616 Opportunity Dr\, Columbia City\, IN 46725
URL:https://www.columbiacityconnect.com/event/sweet-treats-fewer-falls-better-hearing/
LOCATION:Autumn Trace Senior Community\, 616 Opportunity Dr\, Columbia City\, 46725
ORGANIZER;CN="3Rivers Hearing":MAILTO:3rivershearing@gmail.com
END:VEVENT
BEGIN:VEVENT
DTSTART;TZID=America/Indiana/Indianapolis:20260507T090000
DTEND;TZID=America/Indiana/Indianapolis:20260507T180000
DTSTAMP:20260421T221431
CREATED:20260420T153744Z
LAST-MODIFIED:20260420T153744Z
UID:10001165-1778144400-1778176800@www.columbiacityconnect.com
SUMMARY:Friends of the Library Book Sale
DESCRIPTION:Find a “New to you” book! \nDive into our treasure trove of stories\, knowledge\, and inspiration. From timeless classics to contemporary bestsellers\, we have something for every reader. Don’t miss this chance to fill your shelves and fuel your imagination.
URL:https://www.columbiacityconnect.com/event/friends-of-the-library-book-sale-4/
LOCATION:Peabody Public Library\, 1160 E. State Road 205\, Columbia City\, 46725
ORGANIZER;CN="Peabody Public Library":MAILTO:rhatfield@ppl.lib.in.us
END:VEVENT
BEGIN:VEVENT
DTSTART;TZID=America/Indiana/Indianapolis:20260509T090000
DTEND;TZID=America/Indiana/Indianapolis:20260509T150000
DTSTAMP:20260421T221431
CREATED:20260121T201120Z
LAST-MODIFIED:20260121T201120Z
UID:10001065-1778317200-1778338800@www.columbiacityconnect.com
SUMMARY:Flower Crawl
DESCRIPTION:Join us for Columbia City Connect’s Flower Crawl\, a unique and exciting way to explore downtown! As you explore our vibrant downtown\, you’ll stop at participating businesses\, collecting a fresh flower stem or greenery at each location. By the end of the crawl\, you’ll have created a gorgeous\, hand-picked bouquet—a perfect keepsake from your day downtown!\n\nMark your calendars and grab your girls for a fun day exploring downtown Columbia City!\n\n Date: Saturday\, May 9\, 2026 Time: 9 AM – 3 PM Check-In: Starts at 8:45 AM at The Clugston Location: Downtown Columbia City Tickets: TBA
URL:https://www.columbiacityconnect.com/event/flower-crawl/
LOCATION:Downtown Columbia City\, 108 S Chauncey St\, Columbia City\, IN\, 46725\, United States
ATTACH;FMTTYPE=image/png:https://www.columbiacityconnect.com/wp-content/uploads/2026/01/2026-Flower-Crawl-Facebook-Cover.png
END:VEVENT
BEGIN:VEVENT
DTSTART;TZID=America/Indiana/Indianapolis:20260509T100000
DTEND;TZID=America/Indiana/Indianapolis:20260509T130000
DTSTAMP:20260421T221431
CREATED:20260420T153727Z
LAST-MODIFIED:20260420T153727Z
UID:10001166-1778320800-1778331600@www.columbiacityconnect.com
SUMMARY:Mother's Day Craft
DESCRIPTION:Bring in that special motherly figure in your life & join us for some fun Mother’s Day Crafts! Drop in when you can and create at your own pace! \nAs always\, all events are free and no library card is required to attend!
URL:https://www.columbiacityconnect.com/event/mothers-day-craft/
LOCATION:Peabody Public Library\, 1160 E. State Road 205\, Columbia City\, 46725
ORGANIZER;CN="Peabody Public Library":MAILTO:rhatfield@ppl.lib.in.us
END:VEVENT
BEGIN:VEVENT
DTSTART;TZID=America/Indiana/Indianapolis:20260515T163000
DTEND;TZID=America/Indiana/Indianapolis:20260515T173000
DTSTAMP:20260421T221431
CREATED:20250204T174816Z
LAST-MODIFIED:20250204T174816Z
UID:10000456-1778862600-1778866200@www.columbiacityconnect.com
SUMMARY:Tales with Tails
DESCRIPTION:We will have a service dog at the library that you can sit with and read to! You can probably even sneak in a few pets and hugs as well.
URL:https://www.columbiacityconnect.com/event/tales-with-tails/2026-05-15/
LOCATION:Peabody Public Library\, 1160 E. State Road 205\, Columbia City\, 46725
ORGANIZER;CN="Peabody Public Library":MAILTO:rhatfield@ppl.lib.in.us
END:VEVENT
BEGIN:VEVENT
DTSTART;TZID=America/Indiana/Indianapolis:20260516T100000
DTEND;TZID=America/Indiana/Indianapolis:20260516T120000
DTSTAMP:20260421T221431
CREATED:20260420T153705Z
LAST-MODIFIED:20260420T153705Z
UID:10001167-1778925600-1778932800@www.columbiacityconnect.com
SUMMARY:Elegant Harp Music
DESCRIPTION:Spring into the Library to listen to beautiful\, elegant harp music by Sarah Wall.
URL:https://www.columbiacityconnect.com/event/elegant-harp-music-2/
LOCATION:Peabody Public Library\, 1160 E. State Road 205\, Columbia City\, 46725
ORGANIZER;CN="Peabody Public Library":MAILTO:rhatfield@ppl.lib.in.us
END:VEVENT
BEGIN:VEVENT
DTSTART;TZID=America/Indiana/Indianapolis:20260516T100000
DTEND;TZID=America/Indiana/Indianapolis:20260516T140000
DTSTAMP:20260421T221431
CREATED:20260420T153649Z
LAST-MODIFIED:20260420T153649Z
UID:10001168-1778925600-1778940000@www.columbiacityconnect.com
SUMMARY:Repair Cafe
DESCRIPTION:We are proud to be hosting our very first Repair Café! \nWith this initiative we are trying to give items a second life and prevent them from ending up in landfills. \nPatrons are encouraged to bring in one to two items of clothing\, a stuffed animal that needs mended\, or a bike that needs some minor repairs! \nClothing must be clean prior to bringing them in and cannot be undergarments \nBikes will have to be brought around the back of the building to be evaluated and fixed \nPeabody Public Library is not responsible for damaged items and patrons will need to sign a waver before items can be reviewed \nItems may not be repairable \nThis event is free and does not require a library card to attend!
URL:https://www.columbiacityconnect.com/event/repair-cafe/
LOCATION:Peabody Public Library\, 1160 E. State Road 205\, Columbia City\, 46725
ORGANIZER;CN="Peabody Public Library":MAILTO:rhatfield@ppl.lib.in.us
END:VEVENT
BEGIN:VEVENT
DTSTART;TZID=America/Indiana/Indianapolis:20260517T130000
DTEND;TZID=America/Indiana/Indianapolis:20260517T150000
DTSTAMP:20260421T221431
CREATED:20260223T183813Z
LAST-MODIFIED:20260223T183813Z
UID:10001109-1779022800-1779030000@www.columbiacityconnect.com
SUMMARY:Lost Skills Program: Take an Herbal Foraging Hike + Herbal Vinegar Dressing
DESCRIPTION:Learn the basics of foraging for wild herbs and plants to make homemade herbal vinegar dressing for your next salad. You’ll learn safety tips and common wild plants that grow in our area that can be used to bring more nutrition to your next meal!\n\nLet’s learn how simple it is to make delicious and nutritious dressing regularly for your family with just a few simple ingredients. We’ll walk through all the steps together and students will leave equipped with a jar of herbal vinegar dressing\, as well as a recipe card to continue practicing at home.\n*students will bring home a ½ pint jar of dressing and a recipe card\n\n-Recommended to wear closed toed shoes\, long pants\, and hat\nAges: 13-Adult\n\nForaging Hike:\n\nLocation: Morsches Park (park by the pond in the back of the park)-1035 IN-205\, Columbia City\, IN 46725\nand\n\nMaking Herbal Vinegar Dressing:Giving Gardens of Indiana 479 S. Towerview Dr. Columbia City\, IN 46725\nTeacher: Jessica Ankney + Jessica Burkett\n\nTickets: Lost Skills- Herbal Hike + Herbal Vinegar Dressing
URL:https://www.columbiacityconnect.com/event/lost-skills-program-take-an-herbal-foraging-hike-herbal-vinegar-dressing/
LOCATION:Morsches Park\, 1035 E. State Rd 205\, Columbia City\, 46725
END:VEVENT
BEGIN:VEVENT
DTSTART;TZID=America/Indiana/Indianapolis:20260518T080000
DTEND;TZID=America/Indiana/Indianapolis:20260518T083000
DTSTAMP:20260421T221432
CREATED:20260325T152833Z
LAST-MODIFIED:20260325T152833Z
UID:10001150-1779091200-1779093000@www.columbiacityconnect.com
SUMMARY:Whitley County Veterans Flag Placing
DESCRIPTION:8:00a.m. Monday 18 May 2026
URL:https://www.columbiacityconnect.com/event/whitley-county-veterans-flag-placing/
LOCATION:VFW Post 5582\, 415 E Chicago St.\, Columbia City\, 46725
ORGANIZER;CN="Whitley County Veterans Cemetary Cleaning &amp%3B Restoration":MAILTO:gbird670@gmail.com
END:VEVENT
BEGIN:VEVENT
DTSTART;TZID=America/Indiana/Indianapolis:20260521T093000
DTEND;TZID=America/Indiana/Indianapolis:20260521T103000
DTSTAMP:20260421T221432
CREATED:20260420T153554Z
LAST-MODIFIED:20260420T153554Z
UID:10001169-1779355800-1779359400@www.columbiacityconnect.com
SUMMARY:All Together at the Library
DESCRIPTION:All Together at the Library is a monthly program designed to create a welcoming\, inclusive space for adults with intellectual and developmental disabilities to connect\, participate\, and feel part of library life. Each session offers flexible activities such as crafts\, games\, conversation\, or hands-on experiences\, with an emphasis on comfort\, accessibility\, and social connection. Participants are encouraged to engage in ways that feel meaningful to them. This program is designed to be inclusive and flexible. Participation is always optional\, and activities can be adapted to different comfort levels. Support staff\, caregivers\, and companions are welcome to attend. \nThis month\, participants are invited to decorate and personalize their own tote bag to take home. With simple materials and flexible design options\, this activity is designed to be approachable for all skill levels. Participants can engage at their own pace and in whatever way feels comfortable\, whether creating a detailed design or keeping it simple. \nPlease contact the library in advance with any accessibility needs or questions.
URL:https://www.columbiacityconnect.com/event/all-together-at-the-library/
LOCATION:Peabody Public Library\, 1160 E. State Road 205\, Columbia City\, 46725
ORGANIZER;CN="Peabody Public Library":MAILTO:rhatfield@ppl.lib.in.us
END:VEVENT
BEGIN:VEVENT
DTSTART;TZID=America/Indiana/Indianapolis:20260522T180000
DTEND;TZID=America/Indiana/Indianapolis:20260522T210000
DTSTAMP:20260421T221432
CREATED:20260413T191431Z
LAST-MODIFIED:20260413T191431Z
UID:10001163-1779472800-1779483600@www.columbiacityconnect.com
SUMMARY:Pete Schlegel @ 1897 BBQ
DESCRIPTION:Join us at 1897 BBQ for a great night of live music with the legendary Pete Schlegel! \nEnjoy an evening filled with classic tunes\, good vibes\, and great food in one of downtown’s favorite spots. \nGrab your friends\, settle in\, and get ready for a fun\, laid-back night you won’t want to miss!
URL:https://www.columbiacityconnect.com/event/pete-schlegel-1897-bbq/
LOCATION:1897 BBQ\, 126 W. Van Buren\, Columbia City\, IN\, 46725\, United States
ORGANIZER;CN="1897 BBQ":MAILTO:info@1897bbq.com
END:VEVENT
BEGIN:VEVENT
DTSTART;TZID=America/Indiana/Indianapolis:20260522T193000
DTEND;TZID=America/Indiana/Indianapolis:20260522T210000
DTSTAMP:20260421T221432
CREATED:20260205T144031Z
LAST-MODIFIED:20260206T162318Z
UID:10001081-1779478200-1779483600@www.columbiacityconnect.com
SUMMARY:CCHS Fine Arts presents Six: The Musical
DESCRIPTION:“Divorced. Beheaded. Died. Divorced. Beheaded. Survived.” \nSix is a modern retelling of the lives of Henry VIII’s six wives: Catherine of Aragon\, Anne Boleyn\, Jane Seymour\, Anna of Cleves\, Katherine Howard\, and Catherine Parr. They have come together as a band to stage a pop concert and invite the audience to hear their stories. They cannot decide who should be the lead singer\, so they initiate a competition\, or singing battle\, to see who suffered the most as Queen. Each wife believes they had it toughest and they belittle each other’s attempts to prove their hardship. However\, they become frustrated that their place in history is defined by one man. Together\, they decide to pick up the pen and the microphone\, and re-write their own stories. They are more than a rhyme\, more than a wife\, and much more than one King could handle. \nThe show is recommended for ages 13 & up. \nPublic Sales start: Monday\, April 20\, 2026 10:00 AM ET
URL:https://www.columbiacityconnect.com/event/cchs-fine-arts-presents-six-the-musical/2026-05-22/
LOCATION:Columbia City High School\, 1600 IN-9\, Columbia City\, IN\, 46725\, United States
ORGANIZER;CN="Columbia City High School Fine Arts":MAILTO:barkleyss@wccsonline.com
END:VEVENT
BEGIN:VEVENT
DTSTART;TZID=America/Indiana/Indianapolis:20260523T090000
DTEND;TZID=America/Indiana/Indianapolis:20260523T180000
DTSTAMP:20260421T221432
CREATED:20260325T151407Z
LAST-MODIFIED:20260325T151407Z
UID:10001148-1779526800-1779559200@www.columbiacityconnect.com
SUMMARY:Dyno Competition & Show-n-Shine
DESCRIPTION:Dyno Competition & Show-n-Shine
URL:https://www.columbiacityconnect.com/event/dyno-competition-show-n-shine/
LOCATION:Quality Diesel Performance\, 405 E Chicago St\, Columbia City\, IN\, 46725\, United States
ORGANIZER;CN="Quality Diesel Performance":MAILTO:qualitydieselperf@hotmail.com
END:VEVENT
BEGIN:VEVENT
DTSTART;TZID=America/Indiana/Indianapolis:20260523T193000
DTEND;TZID=America/Indiana/Indianapolis:20260523T210000
DTSTAMP:20260421T221432
CREATED:20260205T144031Z
LAST-MODIFIED:20260206T162318Z
UID:10001082-1779564600-1779570000@www.columbiacityconnect.com
SUMMARY:CCHS Fine Arts presents Six: The Musical
DESCRIPTION:“Divorced. Beheaded. Died. Divorced. Beheaded. Survived.” \nSix is a modern retelling of the lives of Henry VIII’s six wives: Catherine of Aragon\, Anne Boleyn\, Jane Seymour\, Anna of Cleves\, Katherine Howard\, and Catherine Parr. They have come together as a band to stage a pop concert and invite the audience to hear their stories. They cannot decide who should be the lead singer\, so they initiate a competition\, or singing battle\, to see who suffered the most as Queen. Each wife believes they had it toughest and they belittle each other’s attempts to prove their hardship. However\, they become frustrated that their place in history is defined by one man. Together\, they decide to pick up the pen and the microphone\, and re-write their own stories. They are more than a rhyme\, more than a wife\, and much more than one King could handle. \nThe show is recommended for ages 13 & up. \nPublic Sales start: Monday\, April 20\, 2026 10:00 AM ET
URL:https://www.columbiacityconnect.com/event/cchs-fine-arts-presents-six-the-musical/2026-05-23/
LOCATION:Columbia City High School\, 1600 IN-9\, Columbia City\, IN\, 46725\, United States
ORGANIZER;CN="Columbia City High School Fine Arts":MAILTO:barkleyss@wccsonline.com
END:VEVENT
BEGIN:VEVENT
DTSTART;TZID=America/Indiana/Indianapolis:20260526T180000
DTEND;TZID=America/Indiana/Indianapolis:20260526T193000
DTSTAMP:20260421T221432
CREATED:20260206T172517Z
LAST-MODIFIED:20260210T190836Z
UID:10001094-1779818400-1779823800@www.columbiacityconnect.com
SUMMARY:Empower Whitley Women
DESCRIPTION:Events dedicated to restoring\, uplifting\, and empowering the women of Whitley County. \nJoin us for FREE workshops\, connections\, and inspiration designed to support you who person’s well-being. \nSnacks and door prizes at each event. \n  \nWhat to expect: \n-Wellness + self-care topics \n-Mindfulness and relaxation sessions \n-Local women-owned vendors and presenters \n-Health and lifestyle resources \n-Community connection and encouragement \n  \nFourth Tuesday of the Month: February through October \nLocation: The Woodlands 710 Opportunity Drive\, Columbia City\, IN 46725 \nTime: 6-7:30 pm \nProgram funded through generous grants from Parkview Whitley and The Whitley County Community Foundation. \nRefreshments provided by Todd Reid – State Farm Insurance \nEmpower Whitley Women | Facebook \nQuestions: Whitley County Health Department: 260-248-3121 x6 \n 
URL:https://www.columbiacityconnect.com/event/empower-whitley-women/2026-05-26/
LOCATION:Woodlands Senior Activity Center\, 710 Opportunity Dr\, Columbia City\, IN\, 46725\, United States
END:VEVENT
BEGIN:VEVENT
DTSTART;TZID=America/Indiana/Indianapolis:20260528T163000
DTEND;TZID=America/Indiana/Indianapolis:20260528T173000
DTSTAMP:20260421T221432
CREATED:20260420T153533Z
LAST-MODIFIED:20260420T153533Z
UID:10001170-1779985800-1779989400@www.columbiacityconnect.com
SUMMARY:Career Spotlight: Meet a Forensic Scientist
DESCRIPTION:Come see Emily Kell and get the inside scoop on life as a Forensic Scientist! Find out what their job is really like\, hear awesome stories\, and ask anything you’re curious about. \nAs always\, all library events are free and no library card is required to attend!
URL:https://www.columbiacityconnect.com/event/career-spotlight-meet-a-forensic-scientist/
LOCATION:Peabody Public Library\, 1160 E. State Road 205\, Columbia City\, 46725
ORGANIZER;CN="Peabody Public Library":MAILTO:rhatfield@ppl.lib.in.us
END:VEVENT
BEGIN:VEVENT
DTSTART;TZID=America/Indiana/Indianapolis:20260528T173000
DTEND;TZID=America/Indiana/Indianapolis:20260528T190000
DTSTAMP:20260421T221432
CREATED:20260420T153518Z
LAST-MODIFIED:20260420T153518Z
UID:10001171-1779989400-1779994800@www.columbiacityconnect.com
SUMMARY:Foundations of Heart Health
DESCRIPTION:Foundations of a healthy heart! Presented by Emily Banks\, Community Connector\, Rural at Heart American Heart Association. \n“Life’s Essential 8 are the key measures for improving and maintaining cardiovascular health\, as defined by the American Heart Association. Better cardiovascular health helps lower the risk for heart disease\, stroke and other major health problems.”
URL:https://www.columbiacityconnect.com/event/foundations-of-heart-health/
LOCATION:Peabody Public Library\, 1160 E. State Road 205\, Columbia City\, 46725
ORGANIZER;CN="Peabody Public Library":MAILTO:rhatfield@ppl.lib.in.us
END:VEVENT
BEGIN:VEVENT
DTSTART;TZID=America/Indiana/Indianapolis:20260530T103000
DTEND;TZID=America/Indiana/Indianapolis:20260530T120000
DTSTAMP:20260421T221432
CREATED:20260420T144059Z
LAST-MODIFIED:20260420T144059Z
UID:10001172-1780137000-1780142400@www.columbiacityconnect.com
SUMMARY:Tea-Rex Party
DESCRIPTION:Get ready to stomp\, roar and explore the world of dinosaurs to kick off Summer at the Library! Join us for a prehistoric storytime\, followed by dinosaur-themed stations where we’ll dig for fossils\, play pretend\, and even bring home a dinorific craft!  \nAs always\, all library events are free and no library card is required to attend!
URL:https://www.columbiacityconnect.com/event/tea-rex-party/
LOCATION:Peabody Public Library\, 1160 E. State Road 205\, Columbia City\, 46725
ORGANIZER;CN="Peabody Public Library":MAILTO:rhatfield@ppl.lib.in.us
END:VEVENT
BEGIN:VEVENT
DTSTART;TZID=America/Indiana/Indianapolis:20260530T163000
DTEND;TZID=America/Indiana/Indianapolis:20260530T200000
DTSTAMP:20260421T221432
CREATED:20260325T150752Z
LAST-MODIFIED:20260325T150752Z
UID:10001146-1780158600-1780171200@www.columbiacityconnect.com
SUMMARY:BAND TOGETHER MUSIC FESTIVAL 2026
DESCRIPTION:Join us for a super fun evening as we BAND TOGETHER to raise scholarship funds for students who attend TROY School !\n\nOur 2026 BAND TOGETHER MUSIC FESTIVAL will feature All Gone Blue & The Declassified ! Both bands are area FAN FAVORITES so come out to Columbia City to kick off your summer with your friends all while supporting a great cause in our community !\n\nDrop it Like it’s Tot & Another Bites the Crust Food Trucks will be serving up delicious food and all tickets include a $15 food coupon.\n\nThis is a fun\, family friendly event with hours of FANTASTIC music so bring your camp chairs and spend the evening with us for BAND TOGETHER 2026!\n\nTICKETS: $35 PER PERSON\, AGES 10 & UNDER FREEPURCHASE A TABLE OF 8: $275\n\nTickets can be purchased at www.troyalternativeschool.com or via the link in our event post. BAND TOGETHER MUSIC FESTIVAL 2026 Tickets\, Saturday\, May 30 from 4:30 pm to 8 pm | Eventbrite\nBring your friends ! We hope to see you there ! Rock On !
URL:https://www.columbiacityconnect.com/event/band-together-music-festival-2026/
LOCATION:Mizpah Shrine Horse Grounds\, 985 N State Rd 9\, Columbia City\, IN\, 46725\, United States
ORGANIZER;CN="TROY Teaching and Reaching Our Youth":MAILTO:office@troyalternativeschool.com
END:VEVENT
END:VCALENDAR