BEGIN:VCALENDAR
VERSION:2.0
PRODID:-//Columbia City Connect - ECPv6.6.1//NONSGML v1.0//EN
CALSCALE:GREGORIAN
METHOD:PUBLISH
X-WR-CALNAME:Columbia City Connect
X-ORIGINAL-URL:https://www.columbiacityconnect.com
X-WR-CALDESC:Events for Columbia City Connect
REFRESH-INTERVAL;VALUE=DURATION:PT1H
X-Robots-Tag:noindex
X-PUBLISHED-TTL:PT1H
BEGIN:VTIMEZONE
TZID:America/Indiana/Indianapolis
BEGIN:DAYLIGHT
TZOFFSETFROM:-0500
TZOFFSETTO:-0400
TZNAME:EDT
DTSTART:20260308T070000
END:DAYLIGHT
BEGIN:STANDARD
TZOFFSETFROM:-0400
TZOFFSETTO:-0500
TZNAME:EST
DTSTART:20261101T060000
END:STANDARD
END:VTIMEZONE
BEGIN:VEVENT
DTSTART;TZID=America/Indiana/Indianapolis:20260201T080000
DTEND;TZID=America/Indiana/Indianapolis:20260201T210000
DTSTAMP:20260423T125653
CREATED:20260121T191451Z
LAST-MODIFIED:20260121T191603Z
UID:14945-1769932800-1769979600@www.columbiacityconnect.com
SUMMARY:Foodie February - Week 1 - Drink Specials
DESCRIPTION:Foodie February kicks off with Drink Specials Week (February 1 – 7)\, a celebration of downtown Columbia City’s favorite drink stops! From cozy coffees and specialty lattes to refreshing smoothies\, mocktails and handcrafted cocktails\, this week is all about raising a glass to local flavor.\nParticipating businesses will be featuring drink specials and fan-favorite beverages—perfect for warming up on chilly winter days or treating yourself to something new.\n\nHow to Participate:Stop by any participating location between February 1–7\, enjoy a featured drink\, and save your receipt. Write your name and phone number on your receipt and send a private message to Columbia City Connect with a clear photo of your receipt(s) to be entered to win our Local Flavor Prize Pack ($100 value). Each receipt counts as one entry—so sip\, savor\, and explore as many local spots as you’d like!\n\nStart Foodie February by supporting local businesses and enjoying the best drinks Columbia City has to offer. Cheers to a flavorful start!
URL:https://www.columbiacityconnect.com/event/foodie-february-week-1-drink-specials/
LOCATION:Downtown Columbia City\, 108 S Chauncey St\, Columbia City\, IN\, 46725\, United States
ATTACH;FMTTYPE=image/png:https://www.columbiacityconnect.com/wp-content/uploads/2026/01/Week-1.png
END:VEVENT
END:VCALENDAR