BEGIN:VCALENDAR
VERSION:2.0
PRODID:-//Columbia City Connect - ECPv6.6.1//NONSGML v1.0//EN
CALSCALE:GREGORIAN
METHOD:PUBLISH
X-WR-CALNAME:Columbia City Connect
X-ORIGINAL-URL:https://www.columbiacityconnect.com
X-WR-CALDESC:Events for Columbia City Connect
REFRESH-INTERVAL;VALUE=DURATION:PT1H
X-Robots-Tag:noindex
X-PUBLISHED-TTL:PT1H
BEGIN:VTIMEZONE
TZID:America/Indiana/Indianapolis
BEGIN:DAYLIGHT
TZOFFSETFROM:-0500
TZOFFSETTO:-0400
TZNAME:EDT
DTSTART:20260308T070000
END:DAYLIGHT
BEGIN:STANDARD
TZOFFSETFROM:-0400
TZOFFSETTO:-0500
TZNAME:EST
DTSTART:20261101T060000
END:STANDARD
END:VTIMEZONE
BEGIN:VEVENT
DTSTART;TZID=America/Indiana/Indianapolis:20260215T080000
DTEND;TZID=America/Indiana/Indianapolis:20260215T210000
DTSTAMP:20260423T102805
CREATED:20260121T192216Z
LAST-MODIFIED:20260121T192216Z
UID:14955-1771142400-1771189200@www.columbiacityconnect.com
SUMMARY:Foodie February - Week 3 - Bites to Share
DESCRIPTION:Calling all snack lovers! It’s Bites to Share Week (February 15 – 21)\, the perfect time to gather friends\, family or coworkers and enjoy appetizers\, small plates\, and shareable snacks at downtown Columbia City’s favorite local eateries.\n\nFrom savory samplers to bite-sized delights\, participating restaurants\, cafés\, and food spots will be serving up their most crave-worthy dishes\, perfect for sharing (or keeping all to yourself—we won’t judge!).\n\nHow to Participate:Stop by any participating location between February 15–21\, enjoy a quick bite\, and save your receipt. Write your name and phone number on the receipt and send a private message to Columbia City Connect with a clear photo of your receipt(s) to be entered to win our Local Flavor Prize Pack ($100 value).
URL:https://www.columbiacityconnect.com/event/foodie-february-week-3-bites-to-share/
LOCATION:Downtown Columbia City\, 108 S Chauncey St\, Columbia City\, IN\, 46725\, United States
ATTACH;FMTTYPE=image/png:https://www.columbiacityconnect.com/wp-content/uploads/2026/01/Week-3.png
END:VEVENT
END:VCALENDAR