BEGIN:VCALENDAR
VERSION:2.0
PRODID:-//Columbia City Connect - ECPv6.6.1//NONSGML v1.0//EN
CALSCALE:GREGORIAN
METHOD:PUBLISH
X-WR-CALNAME:Columbia City Connect
X-ORIGINAL-URL:https://www.columbiacityconnect.com
X-WR-CALDESC:Events for Columbia City Connect
REFRESH-INTERVAL;VALUE=DURATION:PT1H
X-Robots-Tag:noindex
X-PUBLISHED-TTL:PT1H
BEGIN:VTIMEZONE
TZID:America/Indiana/Indianapolis
BEGIN:DAYLIGHT
TZOFFSETFROM:-0500
TZOFFSETTO:-0400
TZNAME:EDT
DTSTART:20260308T070000
END:DAYLIGHT
BEGIN:STANDARD
TZOFFSETFROM:-0400
TZOFFSETTO:-0500
TZNAME:EST
DTSTART:20261101T060000
END:STANDARD
END:VTIMEZONE
BEGIN:VEVENT
DTSTART;TZID=America/Indiana/Indianapolis:20260222T080000
DTEND;TZID=America/Indiana/Indianapolis:20260222T210000
DTSTAMP:20260422T220240
CREATED:20260121T192438Z
LAST-MODIFIED:20260121T192438Z
UID:14958-1771747200-1771794000@www.columbiacityconnect.com
SUMMARY:Foodie February - Week 4 - Fan Favorites Week
DESCRIPTION:Fan Favorites Week (February 22 – 28) is your final chance to celebrate downtown Columbia City’s incredible local flavors this February! This week shines a spotlight on the dishes\, drinks\, and treats that keep our community coming back again and again. From timeless best-sellers to menu items that have stolen the hearts of locals\, each participating business will feature their most-loved creations—or even something new they’re excited for you to try.\n\nWhether you’re craving a decadent dessert\, a hearty entrée\, or a refreshing coffee or cocktail\, Fan Favorites Week is all about enjoying the tastes that define downtown Columbia City. It’s a delicious way to wrap up Foodie February while supporting the restaurants\, cafés and food spots that make our community special.\n\nHow to Participate:Stop by any participating location between February 22–28\, enjoy a Fan Favorite feature\, and save your receipt. Write your name and phone number on the receipt and send a private message to Columbia City Connect with a clear photo of your receipt(s) to be entered to win our Local Flavor Prize Pack ($100 value).
URL:https://www.columbiacityconnect.com/event/foodie-february-week-4-fan-favorites-week/
LOCATION:Downtown Columbia City\, 108 S Chauncey St\, Columbia City\, IN\, 46725\, United States
ATTACH;FMTTYPE=image/png:https://www.columbiacityconnect.com/wp-content/uploads/2026/01/Week-4.png
END:VEVENT
END:VCALENDAR