BEGIN:VCALENDAR
VERSION:2.0
PRODID:-//Columbia City Connect - ECPv6.6.1//NONSGML v1.0//EN
CALSCALE:GREGORIAN
METHOD:PUBLISH
X-WR-CALNAME:Columbia City Connect
X-ORIGINAL-URL:https://www.columbiacityconnect.com
X-WR-CALDESC:Events for Columbia City Connect
REFRESH-INTERVAL;VALUE=DURATION:PT1H
X-Robots-Tag:noindex
X-PUBLISHED-TTL:PT1H
BEGIN:VTIMEZONE
TZID:America/Indiana/Indianapolis
BEGIN:DAYLIGHT
TZOFFSETFROM:-0500
TZOFFSETTO:-0400
TZNAME:EDT
DTSTART:20260308T070000
END:DAYLIGHT
BEGIN:STANDARD
TZOFFSETFROM:-0400
TZOFFSETTO:-0500
TZNAME:EST
DTSTART:20261101T060000
END:STANDARD
END:VTIMEZONE
BEGIN:VEVENT
DTSTART;TZID=America/Indiana/Indianapolis:20260219T163000
DTEND;TZID=America/Indiana/Indianapolis:20260219T173000
DTSTAMP:20260425T124923
CREATED:20260119T212113Z
LAST-MODIFIED:20260119T212113Z
UID:14891-1771518600-1771522200@www.columbiacityconnect.com
SUMMARY:Junior Detectives
DESCRIPTION:Become a top-notch sleuth! Inspired by favorite mystery books\, kids will dive into the world of detection with hands-on activities and experiments. Focusing on a different mystery every month\, we may crack secret ciphers\, learn to analyze fingerprints\, or even go through spy training drills. Get ready to solve the case and become an Ultimate Junior Detective! \nAfter each session participants will also get to go home with their own copy of the mystery book we discussed. \nThis month’s title is “The Empty Envelope” by Ron Roy and we will be deciphering secret ciphers.
URL:https://www.columbiacityconnect.com/event/junior-detectives/
LOCATION:Peabody Public Library\, 1160 E. State Road 205\, Columbia City\, 46725
ORGANIZER;CN="Peabody Public Library":MAILTO:rhatfield@ppl.lib.in.us
END:VEVENT
END:VCALENDAR