BEGIN:VCALENDAR
VERSION:2.0
PRODID:-//Columbia City Connect - ECPv6.6.1//NONSGML v1.0//EN
CALSCALE:GREGORIAN
METHOD:PUBLISH
X-WR-CALNAME:Columbia City Connect
X-ORIGINAL-URL:https://www.columbiacityconnect.com
X-WR-CALDESC:Events for Columbia City Connect
REFRESH-INTERVAL;VALUE=DURATION:PT1H
X-Robots-Tag:noindex
X-PUBLISHED-TTL:PT1H
BEGIN:VTIMEZONE
TZID:America/Indiana/Indianapolis
BEGIN:DAYLIGHT
TZOFFSETFROM:-0500
TZOFFSETTO:-0400
TZNAME:EDT
DTSTART:20260308T070000
END:DAYLIGHT
BEGIN:STANDARD
TZOFFSETFROM:-0400
TZOFFSETTO:-0500
TZNAME:EST
DTSTART:20261101T060000
END:STANDARD
END:VTIMEZONE
BEGIN:VEVENT
DTSTART;TZID=America/Indiana/Indianapolis:20260508T173000
DTEND;TZID=America/Indiana/Indianapolis:20260508T190000
DTSTAMP:20260422T163240
CREATED:20260422T181705Z
LAST-MODIFIED:20260422T181705Z
UID:17250-1778261400-1778266800@www.columbiacityconnect.com
SUMMARY:Mom's Night Out at BABE
DESCRIPTION:Need a night out with some mom friends?\nCome to Babe on Friday\, May 8 for an evening of scrumptious snacks\, a dirty soda bar\, a little pampering\, and a good time with fellow mamas. Childcare provided!
URL:https://www.columbiacityconnect.com/event/moms-night-out-at-babe/
LOCATION:BABE of Whitley County\, 605 Forest Parkway\, Columbia City\, 46725
ORGANIZER;CN="BABE of Whitley County":MAILTO:laura@babewc.org
END:VEVENT
END:VCALENDAR