BEGIN:VCALENDAR
VERSION:2.0
PRODID:-//Columbia City Connect - ECPv6.6.1//NONSGML v1.0//EN
CALSCALE:GREGORIAN
METHOD:PUBLISH
X-WR-CALNAME:Columbia City Connect
X-ORIGINAL-URL:https://www.columbiacityconnect.com
X-WR-CALDESC:Events for Columbia City Connect
REFRESH-INTERVAL;VALUE=DURATION:PT1H
X-Robots-Tag:noindex
X-PUBLISHED-TTL:PT1H
BEGIN:VTIMEZONE
TZID:America/Indiana/Indianapolis
BEGIN:DAYLIGHT
TZOFFSETFROM:-0500
TZOFFSETTO:-0400
TZNAME:EDT
DTSTART:20260308T070000
END:DAYLIGHT
BEGIN:STANDARD
TZOFFSETFROM:-0400
TZOFFSETTO:-0500
TZNAME:EST
DTSTART:20261101T060000
END:STANDARD
END:VTIMEZONE
BEGIN:VEVENT
DTSTART;TZID=America/Indiana/Indianapolis:20260213T180000
DTEND;TZID=America/Indiana/Indianapolis:20260213T210000
DTSTAMP:20260425T193746
CREATED:20260108T174752Z
LAST-MODIFIED:20260108T174752Z
UID:14692-1771005600-1771016400@www.columbiacityconnect.com
SUMMARY:Night to Shine Whitley County
DESCRIPTION:An unforgettable prom experience centered on God’s love\, for people with special needs 14 & older sponsored by the Tim Tebow Foundation in Columbia City\, IN \nMark your calendars – Friday\, February 13\, 2026 is going to be a night to remember!\nEach year\, Night to Shine grows more incredible\, and we can’t wait to celebrate again with all of you. This unforgettable event is part of a worldwide movement – created to honor\, love\, and celebrate individuals with disabilities just the way they are: royalty \nThe mission of Night to Shine is clear and powerful:\n“To change the narrative of how the world values and honors people with disabilities through a worldwide celebration event!”
URL:https://www.columbiacityconnect.com/event/night-to-shine-whitley-county/
LOCATION:First Church of God\, 1200 W Depoy Dr\, Columbia City\, 46725
END:VEVENT
END:VCALENDAR