BEGIN:VCALENDAR
VERSION:2.0
PRODID:-//Columbia City Connect - ECPv6.6.1//NONSGML v1.0//EN
CALSCALE:GREGORIAN
METHOD:PUBLISH
X-WR-CALNAME:Columbia City Connect
X-ORIGINAL-URL:https://www.columbiacityconnect.com
X-WR-CALDESC:Events for Columbia City Connect
REFRESH-INTERVAL;VALUE=DURATION:PT1H
X-Robots-Tag:noindex
X-PUBLISHED-TTL:PT1H
BEGIN:VTIMEZONE
TZID:America/Indiana/Indianapolis
BEGIN:DAYLIGHT
TZOFFSETFROM:-0500
TZOFFSETTO:-0400
TZNAME:EDT
DTSTART:20260308T070000
END:DAYLIGHT
BEGIN:STANDARD
TZOFFSETFROM:-0400
TZOFFSETTO:-0500
TZNAME:EST
DTSTART:20261101T060000
END:STANDARD
END:VTIMEZONE
BEGIN:VEVENT
DTSTART;TZID=America/Indiana/Indianapolis:20260131T110000
DTEND;TZID=America/Indiana/Indianapolis:20260131T150000
DTSTAMP:20260422T004302
CREATED:20260129T181432Z
LAST-MODIFIED:20260129T181519Z
UID:15120-1769857200-1769871600@www.columbiacityconnect.com
SUMMARY:Valentines Maker's Market
DESCRIPTION:￼ Set your calendars for January 31! We will be hosting a Valentines market that Saturday from 11 AM to 3 PM! Come on out for a day of fun with scavenger hunts and giveaways featuring our popular mystery boxes\, gift certificates\, gift baskets and more!! Megan with Cultivate Joy will be set up with her botanical bar with various frames and botanicals to create your own beautiful piece of art for yourself or a gift for your loved one or two!! Michele with Mystik Willows\, Plants & Things will be set up with Brigid Cross kits to make in store or take home for family fun! Our own local author Heather Leughmyer will also be set up with her children’s books!! Various valentines gifts\, decor\, and sales throughout the store from our 60+ vendors going on that weekend and throughout Valentines Day weekend!!
URL:https://www.columbiacityconnect.com/event/valentines-makers-market/
LOCATION:Sage + Stone\, 124 W Van Buren St\, Columbia City\, 46725
ORGANIZER;CN="Sage + Stone":MAILTO:sageandstonecare@gmail.com
END:VEVENT
END:VCALENDAR