BEGIN:VCALENDAR
VERSION:2.0
PRODID:-//Columbia City Connect - ECPv6.6.1//NONSGML v1.0//EN
CALSCALE:GREGORIAN
METHOD:PUBLISH
X-ORIGINAL-URL:https://www.columbiacityconnect.com
X-WR-CALDESC:Events for Columbia City Connect
REFRESH-INTERVAL;VALUE=DURATION:PT1H
X-Robots-Tag:noindex
X-PUBLISHED-TTL:PT1H
BEGIN:VTIMEZONE
TZID:America/Indiana/Indianapolis
BEGIN:DAYLIGHT
TZOFFSETFROM:-0500
TZOFFSETTO:-0400
TZNAME:EDT
DTSTART:20260308T070000
END:DAYLIGHT
BEGIN:STANDARD
TZOFFSETFROM:-0400
TZOFFSETTO:-0500
TZNAME:EST
DTSTART:20261101T060000
END:STANDARD
END:VTIMEZONE
BEGIN:VEVENT
DTSTART;TZID=America/Indiana/Indianapolis:20261107T090000
DTEND;TZID=America/Indiana/Indianapolis:20261107T150000
DTSTAMP:20260422T073954
CREATED:20260121T204516Z
LAST-MODIFIED:20260121T204542Z
UID:10001071-1794042000-1794063600@www.columbiacityconnect.com
SUMMARY:Holiday Open House
DESCRIPTION:Kick off the holiday shopping season with cheer at Columbia City Connect’s Holiday Open House!\n\nDowntown businesses are decked out and inviting you in to explore their festive offerings. Keep an eye out for specials and one-of-a-kind gifts\, and follow your favorite shops for sneak peeks. A list of participating businesses will be shared soon.\n\nCome celebrate small business magic and get a head start on your holiday shopping!
URL:https://www.columbiacityconnect.com/event/holiday-open-house-3/
LOCATION:Downtown Columbia City\, 108 S Chauncey St\, Columbia City\, IN\, 46725\, United States
ATTACH;FMTTYPE=image/png:https://www.columbiacityconnect.com/wp-content/uploads/2026/01/2026-Holiday-Open-House-Event-Cover-1.png
END:VEVENT
BEGIN:VEVENT
DTSTART;TZID=America/Indiana/Indianapolis:20261127T170000
DTEND;TZID=America/Indiana/Indianapolis:20261127T210000
DTSTAMP:20260422T073954
CREATED:20260121T210640Z
LAST-MODIFIED:20260121T210640Z
UID:10001072-1795798800-1795813200@www.columbiacityconnect.com
SUMMARY:Walk of Trees
DESCRIPTION:With thousands of attendees each year\, Columbia City Connect’s Walk of Trees has become a cherished holiday tradition for families and community members alike! This holiday season\, step into the Clugston on the Square\, where the lobby will be transformed into a winter wonderland filled with gorgeously decorated trees in a variety of sizes\, themes and styles.\n\n Cast your vote! Each tree is up for grabs\, and voting is just $1 per ticket or 6 tickets for $5. Your vote not only supports this event but also gives you a chance to win and take home your favorite tree! \n\nEvent Hours:November 27th: 5 PM – 9 PMNovember 28th: 10 AM – 3 PM & 5 PM – 9 PMDecember 3rd: 5 PM – 8 PMDecember 4th: 5 PM – 9 PMDecember 5th: 5 PM – 9 PM\n\n Be sure to tune in to our Facebook Live on December 5th at 9 PM to see if you’re the lucky winner of one of these fabulous trees!\n\nAll proceeds support downtown revitalization and Columbia City Connect community events.
URL:https://www.columbiacityconnect.com/event/walk-of-trees-9/
LOCATION:The Clugston\, 108 S. Chauncey\, Columbia City\, IN\, 46725\, United States
ATTACH;FMTTYPE=image/png:https://www.columbiacityconnect.com/wp-content/uploads/2026/01/2026-Walk-of-Trees-Event-Cover.png
END:VEVENT
BEGIN:VEVENT
DTSTART;TZID=America/Indiana/Indianapolis:20261128T080000
DTEND;TZID=America/Indiana/Indianapolis:20261128T150000
DTSTAMP:20260422T073954
CREATED:20260312T004006Z
LAST-MODIFIED:20260312T004006Z
UID:10001128-1795852800-1795878000@www.columbiacityconnect.com
SUMMARY:Shop Small Saturday
DESCRIPTION:Join us in downtown Columbia City for Shop Small Saturday. A day dedicated to celebrating and supporting the amazing small businesses that make our community thrive!\n\nExplore our downtown businesses and local vendors who will be offering unique gifts\, home decor\, hand crafted treasures\, delicious holiday treats and more! You’re sure to find something special for everyone on your list.\n\nThis event is FREE and open to the public!\n\nHours may vary by business\, so plan to stroll\, shop\, and explore throughout the day.\n\nWhen you shop small\, you make a big impact\, thank you for supporting the heart of our downtown!
URL:https://www.columbiacityconnect.com/event/shop-small-saturday-3/
LOCATION:Downtown Columbia City\, 108 S Chauncey St\, Columbia City\, IN\, 46725\, United States
ATTACH;FMTTYPE=image/png:https://www.columbiacityconnect.com/wp-content/uploads/2026/03/Shop-Small-Saturday-1920-x-1080-px.png
END:VEVENT
BEGIN:VEVENT
DTSTART;TZID=America/Indiana/Indianapolis:20261128T100000
DTEND;TZID=America/Indiana/Indianapolis:20261128T150000
DTSTAMP:20260422T073954
CREATED:20260121T211048Z
LAST-MODIFIED:20260121T211048Z
UID:10001073-1795860000-1795878000@www.columbiacityconnect.com
SUMMARY:Walk of Trees
DESCRIPTION:With thousands of attendees each year\, Columbia City Connect’s Walk of Trees has become a cherished holiday tradition for families and community members alike! This holiday season\, step into the Clugston on the Square\, where the lobby will be transformed into a winter wonderland filled with gorgeously decorated trees in a variety of sizes\, themes and styles.\n\n Cast your vote! Each tree is up for grabs\, and voting is just $1 per ticket or 6 tickets for $5. Your vote not only supports this event but also gives you a chance to win and take home your favorite tree! \n\nEvent Hours:November 27th: 5 PM – 9 PMNovember 28th: 10 AM – 3 PM & 5 PM – 9 PMDecember 3rd: 5 PM – 8 PMDecember 4th: 5 PM – 9 PMDecember 5th: 5 PM – 9 PM\n\n Be sure to tune in to our Facebook Live on December 5th at 9 PM to see if you’re the lucky winner of one of these fabulous trees!\n\nAll proceeds support downtown revitalization and Columbia City Connect community events.
URL:https://www.columbiacityconnect.com/event/walk-of-trees-10/2026-11-28/1/
LOCATION:The Clugston\, 108 S. Chauncey\, Columbia City\, IN\, 46725\, United States
ATTACH;FMTTYPE=image/png:https://www.columbiacityconnect.com/wp-content/uploads/2026/01/2026-Walk-of-Trees-Event-Cover.png
END:VEVENT
BEGIN:VEVENT
DTSTART;TZID=America/Indiana/Indianapolis:20261128T170000
DTEND;TZID=America/Indiana/Indianapolis:20261128T210000
DTSTAMP:20260422T073954
CREATED:20260121T211048Z
LAST-MODIFIED:20260121T211048Z
UID:10001074-1795885200-1795899600@www.columbiacityconnect.com
SUMMARY:Walk of Trees
DESCRIPTION:With thousands of attendees each year\, Columbia City Connect’s Walk of Trees has become a cherished holiday tradition for families and community members alike! This holiday season\, step into the Clugston on the Square\, where the lobby will be transformed into a winter wonderland filled with gorgeously decorated trees in a variety of sizes\, themes and styles.\n\n Cast your vote! Each tree is up for grabs\, and voting is just $1 per ticket or 6 tickets for $5. Your vote not only supports this event but also gives you a chance to win and take home your favorite tree! \n\nEvent Hours:November 27th: 5 PM – 9 PMNovember 28th: 10 AM – 3 PM & 5 PM – 9 PMDecember 3rd: 5 PM – 8 PMDecember 4th: 5 PM – 9 PMDecember 5th: 5 PM – 9 PM\n\n Be sure to tune in to our Facebook Live on December 5th at 9 PM to see if you’re the lucky winner of one of these fabulous trees!\n\nAll proceeds support downtown revitalization and Columbia City Connect community events.
URL:https://www.columbiacityconnect.com/event/walk-of-trees-10/2026-11-28/2/
LOCATION:The Clugston\, 108 S. Chauncey\, Columbia City\, IN\, 46725\, United States
ATTACH;FMTTYPE=image/png:https://www.columbiacityconnect.com/wp-content/uploads/2026/01/2026-Walk-of-Trees-Event-Cover.png
END:VEVENT
END:VCALENDAR