BEGIN:VCALENDAR
VERSION:2.0
PRODID:-//Columbia City Connect - ECPv6.6.1//NONSGML v1.0//EN
CALSCALE:GREGORIAN
METHOD:PUBLISH
X-WR-CALNAME:Columbia City Connect
X-ORIGINAL-URL:https://www.columbiacityconnect.com
X-WR-CALDESC:Events for Columbia City Connect
REFRESH-INTERVAL;VALUE=DURATION:PT1H
X-Robots-Tag:noindex
X-PUBLISHED-TTL:PT1H
BEGIN:VTIMEZONE
TZID:America/Indiana/Indianapolis
BEGIN:DAYLIGHT
TZOFFSETFROM:-0500
TZOFFSETTO:-0400
TZNAME:EDT
DTSTART:20260308T070000
END:DAYLIGHT
BEGIN:STANDARD
TZOFFSETFROM:-0400
TZOFFSETTO:-0500
TZNAME:EST
DTSTART:20261101T060000
END:STANDARD
END:VTIMEZONE
BEGIN:VEVENT
DTSTART;TZID=America/Indiana/Indianapolis:20260417T163000
DTEND;TZID=America/Indiana/Indianapolis:20260417T173000
DTSTAMP:20260419T084538
CREATED:20250204T174816Z
LAST-MODIFIED:20250204T174816Z
UID:10000455-1776443400-1776447000@www.columbiacityconnect.com
SUMMARY:Tales with Tails
DESCRIPTION:We will have a service dog at the library that you can sit with and read to! You can probably even sneak in a few pets and hugs as well.
URL:https://www.columbiacityconnect.com/event/tales-with-tails/2026-04-17/
LOCATION:Peabody Public Library\, 1160 E. State Road 205\, Columbia City\, 46725
ORGANIZER;CN="Peabody Public Library":MAILTO:rhatfield@ppl.lib.in.us
END:VEVENT
BEGIN:VEVENT
DTSTART;TZID=America/Indiana/Indianapolis:20260417T193000
DTEND;TZID=America/Indiana/Indianapolis:20260417T213000
DTSTAMP:20260419T084538
CREATED:20251216T031828Z
LAST-MODIFIED:20251216T031828Z
UID:10001022-1776454200-1776461400@www.columbiacityconnect.com
SUMMARY:CCHS Production: Radium Girls
DESCRIPTION:This original dramatization by D.W. Gregory is set in the 1920s. Radium Girls tells the true story of the women who painted luminous watch dials with deadly radium and their fight for justice against the corporation that knowingly poisoned them. It is a fast-paced\, emotional drama about corporate greed\, scientific hubris\, and the power of the underdog.
URL:https://www.columbiacityconnect.com/event/cchs-production-radium-girls/2026-04-17/
LOCATION:Columbia City High School\, 1600 IN-9\, Columbia City\, IN\, 46725\, United States
ORGANIZER;CN="Columbia City High School Fine Arts":MAILTO:barkleyss@wccsonline.com
END:VEVENT
END:VCALENDAR