BEGIN:VCALENDAR
VERSION:2.0
PRODID:-//Columbia City Connect - ECPv6.6.1//NONSGML v1.0//EN
CALSCALE:GREGORIAN
METHOD:PUBLISH
X-WR-CALNAME:Columbia City Connect
X-ORIGINAL-URL:https://www.columbiacityconnect.com
X-WR-CALDESC:Events for Columbia City Connect
REFRESH-INTERVAL;VALUE=DURATION:PT1H
X-Robots-Tag:noindex
X-PUBLISHED-TTL:PT1H
BEGIN:VTIMEZONE
TZID:America/Indiana/Indianapolis
BEGIN:DAYLIGHT
TZOFFSETFROM:-0500
TZOFFSETTO:-0400
TZNAME:EDT
DTSTART:20260308T070000
END:DAYLIGHT
BEGIN:STANDARD
TZOFFSETFROM:-0400
TZOFFSETTO:-0500
TZNAME:EST
DTSTART:20261101T060000
END:STANDARD
END:VTIMEZONE
BEGIN:VEVENT
DTSTART;TZID=America/Indiana/Indianapolis:20260424T180000
DTEND;TZID=America/Indiana/Indianapolis:20260424T210000
DTSTAMP:20260424T082354
CREATED:20260420T143934Z
LAST-MODIFIED:20260420T143934Z
UID:10001174-1777053600-1777064400@www.columbiacityconnect.com
SUMMARY:Pork Loin Dinner & Treasure King Raffle
DESCRIPTION:Friday\, 4/24/26 \nPORK LOUN DINNER\nPork loin\, Smashed Potatoes\, and Salad $13.00 \n👑 ‼️ Treasure King ‼️👑\nJACKPOT $1\,144\nTickets are $1 and can be purchased all week until 6:45pm on Friday night!! The Drawing will take place promptly at 7pm (Do not need to be present to win)\nTickets need to be purchased by 6:45pm\nLicense #000521 \nRegular Menu Available\nEveryone wELKome!\nOPEN HOUSE~OPEN TO THE PUBLIC\nDoors Open at 4pm Start serving at 6pm\nNon Smoking 🚭\nKid Friendly 🧒 👧
URL:https://www.columbiacityconnect.com/event/pork-loin-dinner-treasure-king-raffle/
LOCATION:Columbia City Elks Lodge #1417\, 109 S Main St\, Columbia City\, 46725
ORGANIZER;CN="Elks #1417":MAILTO:ccelks1417@gmail.com
END:VEVENT
END:VCALENDAR